BEGIN:VCALENDAR
VERSION:2.0
PRODID:Fort Bend County, TX Calendar Creator
METHOD:PUBLISH
BEGIN:VEVENT
DTSTAMP:20211129T084605
DTSTART:20190205T100000
DTEND:20190205T040000
SUMMARY:COMMONWEALTH CIVIC ASSOCIATION, INC vs Nick Demeris and Helen Demeris
DESCRIPTION:<p><strong>Real Property</strong></p>
<p><strong></strong></p>
<p>LOT 14, IN BLOCK 1 , OF COMMONWEALTH ESTATES SECTION TWO (2), A SUBDIVISION IN FORT BEND COUNTY, TEXAS, ACCORDING TO THE MAP OR PLAT T
CLASS:PUBLIC
END:VEVENT
END:VCALENDAR
